BEGIN:VCALENDAR
VERSION:2.0
METHOD:PUBLISH
X-WR-CALNAME:OCPaddler.com |  May 17 2009- May 24 2009
PRODID:-//strange bird labs//Drupal iCal API//EN
BEGIN:VEVENT
DTSTAMP;VALUE=DATE-TIME:20260425T032559Z
DTSTART;VALUE=DATE-TIME:20090513T090000Z
DTEND;VALUE=DATE-TIME:20090516T230000Z
UID:http://www.ocpaddler.com/node/5011
URL;VALUE=URI:http://www.ocpaddler.com/node/5011
SUMMARY:European Championship 2009 - Allwave cup - Italy
END:VEVENT
BEGIN:VEVENT
DTSTAMP;VALUE=DATE-TIME:20260425T032559Z
DTSTART;VALUE=DATE-TIME:20090517T170000Z
DTEND;VALUE=DATE-TIME:20090518T010000Z
UID:http://www.ocpaddler.com/node/5188
URL;VALUE=URI:http://www.ocpaddler.com/node/5188
SUMMARY:Kalihi Kai Kickball Fundraiser Tournament
END:VEVENT
BEGIN:VEVENT
DTSTAMP;VALUE=DATE-TIME:20260425T032559Z
DTSTART;VALUE=DATE-TIME:20090519T090800Z
DTEND;VALUE=DATE-TIME:20090519T090800Z
UID:http://www.ocpaddler.com/event/2009/allwave_cup_2010_1923_may_giglio_island_italy_1
URL;VALUE=URI:http://www.ocpaddler.com/event/2009/allwave_cup_2010_1923_may_giglio_island_italy_1
SUMMARY:Allwave Cup 2010 19/23 may Giglio Island Italy
END:VEVENT
BEGIN:VEVENT
DTSTAMP;VALUE=DATE-TIME:20260425T032559Z
DTSTART;VALUE=DATE-TIME:20090519T090800Z
DTEND;VALUE=DATE-TIME:20090519T090800Z
UID:http://www.ocpaddler.com/event/2009/allwave_cup_2010_1923_may_giglio_island_italy_0
URL;VALUE=URI:http://www.ocpaddler.com/event/2009/allwave_cup_2010_1923_may_giglio_island_italy_0
SUMMARY:Allwave Cup 2010 19/23 may Giglio Island Italy
END:VEVENT
BEGIN:VEVENT
DTSTAMP;VALUE=DATE-TIME:20260425T032559Z
DTSTART;VALUE=DATE-TIME:20090519T182900Z
DTEND;VALUE=DATE-TIME:20090523T182900Z
UID:http://www.ocpaddler.com/event/2009/allwave_cup_2010_1923_may_giglio_island_italy
URL;VALUE=URI:http://www.ocpaddler.com/event/2009/allwave_cup_2010_1923_may_giglio_island_italy
SUMMARY:Allwave Cup 2010 19/23 may Giglio Island Italy
END:VEVENT
BEGIN:VEVENT
DTSTAMP;VALUE=DATE-TIME:20260425T032559Z
DTSTART;VALUE=DATE-TIME:20090523T163000Z
DTEND;VALUE=DATE-TIME:20090523T163000Z
UID:http://www.ocpaddler.com/node/5294
URL;VALUE=URI:http://www.ocpaddler.com/node/5294
SUMMARY:17th Annual Jericho Iron Classic
END:VEVENT
BEGIN:VEVENT
DTSTAMP;VALUE=DATE-TIME:20260425T032559Z
DTSTART;VALUE=DATE-TIME:20090524T100000Z
DTEND;VALUE=DATE-TIME:20090525T010000Z
UID:http://www.ocpaddler.com/node/5244
URL;VALUE=URI:http://www.ocpaddler.com/node/5244
SUMMARY:Maunalua S.U.P. Ocean Clean Up 2009
END:VEVENT
END:VCALENDAR
