BEGIN:VCALENDAR
VERSION:2.0
METHOD:PUBLISH
X-WR-CALNAME:OCPaddler.com |  September 01 2009- October 01 2009
PRODID:-//strange bird labs//Drupal iCal API//EN
BEGIN:VEVENT
DTSTAMP;VALUE=DATE-TIME:20260423T085119Z
DTSTART;VALUE=DATE-TIME:20090905T050000Z
DTEND;VALUE=DATE-TIME:20090906T140000Z
UID:http://www.ocpaddler.com/event/2009/38th_annual_queen_liliuokalani_outrigger_canoe_races
URL;VALUE=URI:http://www.ocpaddler.com/event/2009/38th_annual_queen_liliuokalani_outrigger_canoe_races
SUMMARY:38th Annual Queen Liliuokalani Outrigger Canoe Races
END:VEVENT
BEGIN:VEVENT
DTSTAMP;VALUE=DATE-TIME:20260423T085119Z
DTSTART;VALUE=DATE-TIME:20090905T173000Z
DTEND;VALUE=DATE-TIME:20090907T060000Z
UID:http://www.ocpaddler.com/node/5586
URL;VALUE=URI:http://www.ocpaddler.com/node/5586
SUMMARY:The 38th Annual Queen Lili'uokalani Canoe Race 
END:VEVENT
BEGIN:VEVENT
DTSTAMP;VALUE=DATE-TIME:20260423T085119Z
DTSTART;VALUE=DATE-TIME:20090912T173000Z
DTEND;VALUE=DATE-TIME:20090912T173000Z
UID:http://www.ocpaddler.com/event/2009/dan_nathaniel_long_distance_canoe_race
URL;VALUE=URI:http://www.ocpaddler.com/event/2009/dan_nathaniel_long_distance_canoe_race
SUMMARY:Dan Nathaniel Long Distance Canoe Race
END:VEVENT
BEGIN:VEVENT
DTSTAMP;VALUE=DATE-TIME:20260423T085119Z
DTSTART;VALUE=DATE-TIME:20090912T180000Z
DTEND;VALUE=DATE-TIME:20090912T180000Z
UID:http://www.ocpaddler.com/event/2009/hawaii_vaa_association_race_around_hat
URL;VALUE=URI:http://www.ocpaddler.com/event/2009/hawaii_vaa_association_race_around_hat
SUMMARY:Hawai'i Va'a Association Race Around the Hat
END:VEVENT
BEGIN:VEVENT
DTSTAMP;VALUE=DATE-TIME:20260423T085119Z
DTSTART;VALUE=DATE-TIME:20090912T190000Z
DTEND;VALUE=DATE-TIME:20090912T190000Z
UID:http://www.ocpaddler.com/node/5524
URL;VALUE=URI:http://www.ocpaddler.com/node/5524
SUMMARY:Kona Brewing Big Boy Challenge 
END:VEVENT
BEGIN:VEVENT
DTSTAMP;VALUE=DATE-TIME:20260423T085119Z
DTSTART;VALUE=DATE-TIME:20090919T020000Z
DTEND;VALUE=DATE-TIME:20090919T020000Z
UID:http://www.ocpaddler.com/event/2009/hva_development_program
URL;VALUE=URI:http://www.ocpaddler.com/event/2009/hva_development_program
SUMMARY:HVA Development Program
END:VEVENT
BEGIN:VEVENT
DTSTAMP;VALUE=DATE-TIME:20260423T085119Z
DTSTART;VALUE=DATE-TIME:20090919T180000Z
DTEND;VALUE=DATE-TIME:20090919T180000Z
UID:http://www.ocpaddler.com/node/5646
URL;VALUE=URI:http://www.ocpaddler.com/node/5646
SUMMARY:3rd Annual Pailolo Challenge
END:VEVENT
BEGIN:VEVENT
DTSTAMP;VALUE=DATE-TIME:20260423T085119Z
DTSTART;VALUE=DATE-TIME:20090927T173000Z
DTEND;VALUE=DATE-TIME:20090927T173000Z
UID:http://www.ocpaddler.com/event/2009/na_wahine_o_ke_kai
URL;VALUE=URI:http://www.ocpaddler.com/event/2009/na_wahine_o_ke_kai
SUMMARY:Na Wahine O Ke Kai
END:VEVENT
END:VCALENDAR
