BEGIN:VCALENDAR
VERSION:2.0
METHOD:PUBLISH
X-WR-CALNAME:OCPaddler.com |  April 10 2011- April 17 2011
PRODID:-//strange bird labs//Drupal iCal API//EN
BEGIN:VEVENT
DTSTAMP;VALUE=DATE-TIME:20260422T054701Z
DTSTART;VALUE=DATE-TIME:20110415T223000Z
DTEND;VALUE=DATE-TIME:20110417T180000Z
UID:http://www.ocpaddler.com/event/2011/shark_bite_challenge_dunedin_fl_april_1517_2011
URL;VALUE=URI:http://www.ocpaddler.com/event/2011/shark_bite_challenge_dunedin_fl_april_1517_2011
SUMMARY:Shark Bite Challenge - Dunedin\, FL - April 15-17\, 2011
END:VEVENT
BEGIN:VEVENT
DTSTAMP;VALUE=DATE-TIME:20260422T054701Z
DTSTART;VALUE=DATE-TIME:20110416T060000Z
DTEND;VALUE=DATE-TIME:20020203
UID:http://www.ocpaddler.com/event/2011/air_tahiti_nui_aotearoa_aito_rudderless_vaa_race
URL;VALUE=URI:http://www.ocpaddler.com/event/2011/air_tahiti_nui_aotearoa_aito_rudderless_vaa_race
SUMMARY:Air Tahiti Nui Aotearoa Aito Rudderless Va'a Race
END:VEVENT
BEGIN:VEVENT
DTSTAMP;VALUE=DATE-TIME:20260422T054701Z
DTSTART;VALUE=DATE-TIME:20110416T211100Z
DTEND;VALUE=DATE-TIME:20110417T211100Z
UID:http://www.ocpaddler.com/event/2011/steinlager_kaiwi_solo_april_17
URL;VALUE=URI:http://www.ocpaddler.com/event/2011/steinlager_kaiwi_solo_april_17
SUMMARY:Steinlager Kaiwi Solo - April 17
END:VEVENT
END:VCALENDAR
