BEGIN:VCALENDAR
VERSION:2.0
METHOD:PUBLISH
X-WR-CALNAME:OCPaddler.com |  August 01 2011- September 01 2011
PRODID:-//strange bird labs//Drupal iCal API//EN
BEGIN:VEVENT
DTSTAMP;VALUE=DATE-TIME:20260422T054652Z
DTSTART;VALUE=DATE-TIME:20110807T060000Z
DTEND;VALUE=DATE-TIME:20110807T120000Z
UID:http://www.ocpaddler.com/event/2011/2011_states_after_parties
URL;VALUE=URI:http://www.ocpaddler.com/event/2011/2011_states_after_parties
SUMMARY:2011 States After Parties!!!
END:VEVENT
BEGIN:VEVENT
DTSTAMP;VALUE=DATE-TIME:20260422T054652Z
DTSTART;VALUE=DATE-TIME:20110807T181500Z
DTEND;VALUE=DATE-TIME:20110807T181500Z
UID:http://www.ocpaddler.com/event/2011/race_koaday_after_states
URL;VALUE=URI:http://www.ocpaddler.com/event/2011/race_koaday_after_states
SUMMARY:Race for the Koa--day after States
END:VEVENT
BEGIN:VEVENT
DTSTAMP;VALUE=DATE-TIME:20260422T054652Z
DTSTART;VALUE=DATE-TIME:20110814T170000Z
DTEND;VALUE=DATE-TIME:20110815T013500Z
UID:http://www.ocpaddler.com/event/2011/steinlager_oc_sup_race
URL;VALUE=URI:http://www.ocpaddler.com/event/2011/steinlager_oc_sup_race
SUMMARY:Steinlager OC & SUP Race
END:VEVENT
BEGIN:VEVENT
DTSTAMP;VALUE=DATE-TIME:20260422T054652Z
DTSTART;VALUE=DATE-TIME:20110821T142000Z
DTEND;VALUE=DATE-TIME:20020203
UID:http://www.ocpaddler.com/event/2011/duke_race
URL;VALUE=URI:http://www.ocpaddler.com/event/2011/duke_race
SUMMARY:Duke Race
END:VEVENT
BEGIN:VEVENT
DTSTAMP;VALUE=DATE-TIME:20260422T054652Z
DTSTART;VALUE=DATE-TIME:20110827T173000Z
DTEND;VALUE=DATE-TIME:20110827T173000Z
UID:http://www.ocpaddler.com/event/2011/kailua_bay_mens_iron_challenge
URL;VALUE=URI:http://www.ocpaddler.com/event/2011/kailua_bay_mens_iron_challenge
SUMMARY:Kailua Bay Men's Iron Challenge
END:VEVENT
BEGIN:VEVENT
DTSTAMP;VALUE=DATE-TIME:20260422T054652Z
DTSTART;VALUE=DATE-TIME:20110827T173000Z
DTEND;VALUE=DATE-TIME:20020203
UID:http://www.ocpaddler.com/event/2011/hei_hei_wa%E2%80%98_nui_%E2%80%98o_waikoloa
URL;VALUE=URI:http://www.ocpaddler.com/event/2011/hei_hei_wa%E2%80%98_nui_%E2%80%98o_waikoloa
SUMMARY:Hei Hei Wa‘a Nui ‘O Waikoloa
END:VEVENT
END:VCALENDAR
