BEGIN:VCALENDAR
VERSION:2.0
METHOD:PUBLISH
X-WR-CALNAME:OCPaddler.com |  March 18 2012- March 25 2012
PRODID:-//strange bird labs//Drupal iCal API//EN
BEGIN:VEVENT
DTSTAMP;VALUE=DATE-TIME:20260423T023715Z
DTSTART;VALUE=DATE-TIME:20120124T063700Z
DTEND;VALUE=DATE-TIME:20120429T063700Z
UID:http://www.ocpaddler.com/event/2012/hui_nalus_kala_kukea_challenge
URL;VALUE=URI:http://www.ocpaddler.com/event/2012/hui_nalus_kala_kukea_challenge
SUMMARY:Hui Nalu's Kala Kukea Challenge
END:VEVENT
BEGIN:VEVENT
DTSTAMP;VALUE=DATE-TIME:20260423T023715Z
DTSTART;VALUE=DATE-TIME:20120325T054200Z
DTEND;VALUE=DATE-TIME:20120325T054200Z
UID:http://www.ocpaddler.com/event/2012/hinanokialoa_oahu_coastal_relay_race_update
URL;VALUE=URI:http://www.ocpaddler.com/event/2012/hinanokialoa_oahu_coastal_relay_race_update
SUMMARY:Hinano-Kialoa Oahu Coastal Relay - RACE UPDATE!!!
END:VEVENT
END:VCALENDAR
