BEGIN:VCALENDAR
VERSION:2.0
METHOD:PUBLISH
X-WR-CALNAME:OCPaddler.com |  June 08 2014- June 15 2014
PRODID:-//strange bird labs//Drupal iCal API//EN
BEGIN:VEVENT
DTSTAMP;VALUE=DATE-TIME:20260423T072059Z
DTSTART;VALUE=DATE-TIME:20140613T210000Z
DTEND;VALUE=DATE-TIME:20140613T210000Z
UID:http://www.ocpaddler.com/event/2014/kaiwi_solo_oc1_molokai_world_champ_saturday_june_13_2015
URL;VALUE=URI:http://www.ocpaddler.com/event/2014/kaiwi_solo_oc1_molokai_world_champ_saturday_june_13_2015
SUMMARY:Kaiwi Solo OC1 Molokai World Champ Saturday June 13\, 2015
END:VEVENT
END:VCALENDAR
