BEGIN:VCALENDAR
VERSION:2.0
METHOD:PUBLISH
X-WR-CALNAME:OCPaddler.com |  October 12 2014- October 19 2014
PRODID:-//strange bird labs//Drupal iCal API//EN
BEGIN:VEVENT
DTSTAMP;VALUE=DATE-TIME:20260423T225711Z
DTSTART;VALUE=DATE-TIME:20141017T190000Z
DTEND;VALUE=DATE-TIME:20141017T190000Z
UID:http://www.ocpaddler.com/event/2014/maui_nui_canoe_race
URL;VALUE=URI:http://www.ocpaddler.com/event/2014/maui_nui_canoe_race
SUMMARY:MAUI NUI CANOE RACE
END:VEVENT
END:VCALENDAR
