BEGIN:VCALENDAR
VERSION:2.0
METHOD:PUBLISH
X-WR-CALNAME:OCPaddler.com |  September 13 2015- September 20 2015
PRODID:-//strange bird labs//Drupal iCal API//EN
BEGIN:VEVENT
DTSTAMP;VALUE=DATE-TIME:20260423T220629Z
DTSTART;VALUE=DATE-TIME:20150920T030000Z
DTEND;VALUE=DATE-TIME:20150920T030000Z
UID:http://www.ocpaddler.com/event/2015/pailolo_challenge_2015
URL;VALUE=URI:http://www.ocpaddler.com/event/2015/pailolo_challenge_2015
SUMMARY:Pailolo Challenge 2015
END:VEVENT
END:VCALENDAR
